BEGIN:VCALENDAR
VERSION:2.0
BEGIN:VEVENT
UID:2026-04-07T18:34:33.548Z@calendarlinkgenerator.com
DTSTAMP:20260407T183433Z
DTSTART:20261001T230000Z
DTEND:20261002T020000Z
SUMMARY:Community Keyholder Awards Dinner 2026
DESCRIPTION:<p>Join us for the second annual Community Keyholder Awards, an elegant celebration of generosity, leadership, and lasting impact in the Greater Fayette region. The evening will recognize exceptional individuals, organizations, and nonprofits advancing positive change in the Greater Fayette region through community-driven powerful awards.</p>
LOCATION:The Oaks at High Hill 1800 Bruno Rd Schulenburg, TX 78956
END:VEVENT
END:VCALENDAR